BEGIN:VCALENDAR
VERSION:2.0
PRODID:-//Eventin//Event Calendar//EN
CALSCALE:GREGORIAN
METHOD:PUBLISH
BEGIN:VEVENT
UID:13a2ee1df23e37982e2341b3daea052b@stgregs.org
SUMMARY:St. Greg's 29th Annual Great Race
DESCRIPTION:Register Now!\nPlease join us on Friday\, June 12\, for the 29t
 h annual St. Greg’s Great Race! The Great Race is a Buffalo Runner of the
  Year Race. This fundraising event brings hundreds of parishioners together
  every June. The 5K-race/walk and social event is open to the parishioners 
 of St. Greg’s\, past parishioners of St. Pius X\, our Family of Good Shep
 herd\, the running community\, and the community at large. An open-air part
 y with great music\, food and fun on the parish grounds follows the race. R
 ace attendance has grown to over 1\,200 participants\; several hundred more
  attend the party each year. \nRace Day Schedule:\nKids 1K – 6:00 PM5K R
 ace – 7:00 PMPost-Race Party – 7:30 PM – 11:00 PM\nTime: 6:00 PM – 
 11:00 PM\nVenue:St. Gregory the Great Church\nCheryl BertovichEmail: cberto
 vich1@gmail.comPhone: (716) 866-2042Allegra PernaEmail: amperna53@gmail.com
 Phone: (716) 983-5329.\nCheck out our Facebook!
LOCATION:St. Gregory the Great campus
DTSTAMP:20260423T143237Z
DTSTART:20260612T220000Z
DTEND:20260613T030000Z
END:VEVENT
END:VCALENDAR
