BEGIN:VCALENDAR
VERSION:2.0
PRODID:-//Eventin//Event Calendar//EN
CALSCALE:GREGORIAN
METHOD:PUBLISH
BEGIN:VEVENT
UID:73aa37b57950e6df2ac835da6ce4084c@stgregs.org
SUMMARY:St. Greg's Columbiettes Spaghetti Dinner
DESCRIPTION:St. Greg's Columbiettes Spaghetti Dinner is Saturday\, May 16\,
  from 4:30 pm to 7:00 pm in the School Gym and Cafeteria. What better Mothe
 r’s Day gift is there than tickets to our Spaghetti Dinner? Enjoy spaghet
 ti\, meatballs\, salad\, a Costanzo roll and butter\, dessert\, and choice 
 of beverage. Cost is $15 per meal\, $10 for children ages 8 and under. Tick
 ets will be available at the Café and at the door. Please make checks paya
 ble to St. Gregory’s Columbiettes. \n 
LOCATION:St. Greg's School Gym and Cafeteria
DTSTAMP:20260423T175138Z
DTSTART:20260515T203000Z
DTEND:20260516T233000Z
END:VEVENT
END:VCALENDAR
